BEGIN:VCALENDAR
VERSION:2.0
PRODID:icalendar-ruby
CALSCALE:GREGORIAN
METHOD:PUBLISH
BEGIN:VEVENT
DTSTAMP:20260420T112720Z
UID:27-847927@ffcsilercity.org
DTSTART:20260726T143000Z
DTEND:20260726T170000Z
CLASS:PUBLIC
CREATED:20260420T025344
DESCRIPTION:
LAST-MODIFIED:20260420T025344
LOCATION:
SUMMARY:Worship and Service Time
URL;VALUE=URI:https://www.ffcsilercity.org/events/worship-and-service-time/
 2026-07-26
END:VEVENT
END:VCALENDAR
