BEGIN:VCALENDAR
VERSION:2.0
PRODID:icalendar-ruby
CALSCALE:GREGORIAN
METHOD:PUBLISH
BEGIN:VEVENT
DTSTAMP:20260420T130942Z
UID:27-848688@ffcsilercity.org
DTSTART:20260802T143000Z
DTEND:20260802T170000Z
CLASS:PUBLIC
CREATED:20260420T074437
DESCRIPTION:
LAST-MODIFIED:20260420T074437
LOCATION:
SUMMARY:Worship and Service Time
URL;VALUE=URI:https://www.ffcsilercity.org/events/worship-and-service-time/
 2026-08-02
END:VEVENT
END:VCALENDAR
