BEGIN:VCALENDAR
VERSION:2.0
PRODID:icalendar-ruby
CALSCALE:GREGORIAN
METHOD:PUBLISH
BEGIN:VEVENT
DTSTAMP:20260420T155646Z
UID:27-849450@ffcsilercity.org
DTSTART:20260816T143000Z
DTEND:20260816T170000Z
CLASS:PUBLIC
CREATED:20260420T102005
DESCRIPTION:
LAST-MODIFIED:20260420T102005
LOCATION:
SUMMARY:Worship and Service Time
URL;VALUE=URI:https://www.ffcsilercity.org/events/worship-and-service-time/
 2026-08-16
END:VEVENT
END:VCALENDAR
