BEGIN:VCALENDAR
VERSION:2.0
PRODID:icalendar-ruby
CALSCALE:GREGORIAN
METHOD:PUBLISH
BEGIN:VEVENT
DTSTAMP:20260420T172728Z
UID:27-850211@ffcsilercity.org
DTSTART:20260823T143000Z
DTEND:20260823T170000Z
CLASS:PUBLIC
CREATED:20260420T125401
DESCRIPTION:
LAST-MODIFIED:20260420T125401
LOCATION:
SUMMARY:Worship and Service Time
URL;VALUE=URI:https://www.ffcsilercity.org/events/worship-and-service-time/
 2026-08-23
END:VEVENT
END:VCALENDAR
