BEGIN:VCALENDAR
VERSION:2.0
PRODID:icalendar-ruby
CALSCALE:GREGORIAN
METHOD:PUBLISH
BEGIN:VEVENT
DTSTAMP:20260420T204517Z
UID:27-850973@ffcsilercity.org
DTSTART:20260906T143000Z
DTEND:20260906T170000Z
CLASS:PUBLIC
CREATED:20260420T152843
DESCRIPTION:
LAST-MODIFIED:20260420T152843
LOCATION:
SUMMARY:Worship and Service Time
URL;VALUE=URI:https://www.ffcsilercity.org/events/worship-and-service-time/
 2026-09-06
END:VEVENT
END:VCALENDAR
