BEGIN:VCALENDAR
VERSION:2.0
PRODID:icalendar-ruby
CALSCALE:GREGORIAN
METHOD:PUBLISH
BEGIN:VEVENT
DTSTAMP:20260420T222159Z
UID:27-851734@ffcsilercity.org
DTSTART:20260913T143000Z
DTEND:20260913T170000Z
CLASS:PUBLIC
CREATED:20260420T180444
DESCRIPTION:
LAST-MODIFIED:20260420T180444
LOCATION:
SUMMARY:Worship and Service Time
URL;VALUE=URI:https://www.ffcsilercity.org/events/worship-and-service-time/
 2026-09-13
END:VEVENT
END:VCALENDAR
