BEGIN:VCALENDAR
VERSION:2.0
PRODID:icalendar-ruby
CALSCALE:GREGORIAN
METHOD:PUBLISH
BEGIN:VEVENT
DTSTAMP:20260421T001448Z
UID:27-851735@ffcsilercity.org
DTSTART:20260920T143000Z
DTEND:20260920T170000Z
CLASS:PUBLIC
CREATED:20260420T180444
DESCRIPTION:
LAST-MODIFIED:20260420T180444
LOCATION:
SUMMARY:Worship and Service Time
URL;VALUE=URI:https://www.ffcsilercity.org/events/worship-and-service-time/
 2026-09-20
END:VEVENT
END:VCALENDAR
