BEGIN:VCALENDAR
VERSION:2.0
PRODID:icalendar-ruby
CALSCALE:GREGORIAN
METHOD:PUBLISH
BEGIN:VEVENT
DTSTAMP:20260421T051035Z
UID:27-852498@ffcsilercity.org
DTSTART:20261011T143000Z
DTEND:20261011T170000Z
CLASS:PUBLIC
CREATED:20260420T203935
DESCRIPTION:
LAST-MODIFIED:20260420T203935
LOCATION:
SUMMARY:Worship and Service Time
URL;VALUE=URI:https://www.ffcsilercity.org/events/worship-and-service-time/
 2026-10-11
END:VEVENT
END:VCALENDAR
